BEGIN:VCALENDAR
VERSION:2.0
PRODID:-//Sabre//Sabre VObject 4.5.8//EN
CALSCALE:GREGORIAN
BEGIN:VEVENT
UID:sabre-vobject-ddec593f-e089-4dbd-9c7a-7a537a781383
DTSTAMP:20260419T132724Z
SUMMARY:Cupcakes & Canvas
DESCRIPTION:Join us for the fun art class for junior artists.&nbsp\;\n
X-ALT-DESC:FMTTYPE=text/html:<!DOCTYPE HTML PUBLIC "-//W3C//DTD HTML 3.2//E
 N"><HTML><p>Join us for the fun art class for junior artists.&nbsp\;</p>\n
 </HTML>
CREATED;TZID=America/Phoenix:20250507T130051
URL;VALUE=URI:https://huachuca.armymwr.com/view-event
DTSTART;TZID=America/Phoenix:20250508T151500
DTEND;TZID=America/Phoenix:20250508T164500
SEQUENCE:0
END:VEVENT
END:VCALENDAR
