BEGIN:VCALENDAR
VERSION:2.0
PRODID:-//Sabre//Sabre VObject 4.5.8//EN
CALSCALE:GREGORIAN
BEGIN:VEVENT
UID:sabre-vobject-646fc14e-9759-48f3-b05c-1bec76a0b8e4
DTSTAMP:20260419T132725Z
SUMMARY:BOSS Pool Tournament
DESCRIPTION:Support the BOSS program by participating in the BOSS Pool Tour
 nament!\n
X-ALT-DESC:FMTTYPE=text/html:<!DOCTYPE HTML PUBLIC "-//W3C//DTD HTML 3.2//E
 N"><HTML><p>Support the BOSS program by participating in the BOSS Pool Tou
 rnament!</p>\n</HTML>
CREATED;TZID=America/Phoenix:20250423T151927
URL;VALUE=URI:https://huachuca.armymwr.com/view-event
DTSTART;TZID=America/Phoenix:20250517T123000
DTEND;TZID=America/Phoenix:20250517T140000
SEQUENCE:0
END:VEVENT
END:VCALENDAR
