BEGIN:VCALENDAR
VERSION:2.0
PRODID:-//Sabre//Sabre VObject 4.5.8//EN
CALSCALE:GREGORIAN
BEGIN:VEVENT
UID:sabre-vobject-4ff22206-f7d5-4b9a-a4d5-c2b2e7875e60
DTSTAMP:20260421T021617Z
SUMMARY:EFMP Event
DESCRIPTION:EFMP invites you and your family to attend It Takes A Village G
 athering.&nbsp\;\n
X-ALT-DESC:FMTTYPE=text/html:<!DOCTYPE HTML PUBLIC "-//W3C//DTD HTML 3.2//E
 N"><HTML><p>EFMP invites you and your family to attend <em>It Takes A Vill
 age Gathering</em>.&nbsp\;</p>\n</HTML>
CREATED;TZID=America/Phoenix:20250407T140821
URL;VALUE=URI:https://huachuca.armymwr.com/view-event
DTSTART;TZID=America/Phoenix:20250410T150000
DTEND;TZID=America/Phoenix:20250410T160000
SEQUENCE:0
END:VEVENT
END:VCALENDAR
