BEGIN:VCALENDAR
VERSION:2.0
PRODID:-//Sabre//Sabre VObject 4.5.8//EN
CALSCALE:GREGORIAN
BEGIN:VEVENT
UID:sabre-vobject-0fbc4e80-0e90-4478-930f-26dbcfc1416b
DTSTAMP:20260419T212753Z
SUMMARY:Bounce with B.O.S.S.
DESCRIPTION:Support the B.O.S.S. program\, by attending the Bounce event!&n
 bsp\;\n
X-ALT-DESC:FMTTYPE=text/html:<!DOCTYPE HTML PUBLIC "-//W3C//DTD HTML 3.2//E
 N"><HTML><p>Support the B.O.S.S. program\, by attending the Bounce event!&
 nbsp\;</p>\n</HTML>
CREATED;TZID=America/Phoenix:20250423T153350
URL;VALUE=URI:https://huachuca.armymwr.com/view-event
DTSTART;TZID=America/Phoenix:20250426T143000
DTEND;TZID=America/Phoenix:20250426T173000
SEQUENCE:0
END:VEVENT
END:VCALENDAR
