BEGIN:VCALENDAR
VERSION:2.0
PRODID:-//Sabre//Sabre VObject 4.5.8//EN
CALSCALE:GREGORIAN
BEGIN:VEVENT
UID:sabre-vobject-b182180b-2257-4587-ac63-853cee2991f6
DTSTAMP:20260422T015239Z
SUMMARY:Learn to Make Salsa with BOSS
DESCRIPTION:Learn to make salsa and support the BOSS program.&nbsp\;\n
X-ALT-DESC:FMTTYPE=text/html:<!DOCTYPE HTML PUBLIC "-//W3C//DTD HTML 3.2//E
 N"><HTML><p>Learn to make salsa and support the BOSS program.&nbsp\;</p>\n
 </HTML>
CREATED;TZID=America/Phoenix:20250310T161637
URL;VALUE=URI:https://huachuca.armymwr.com/view-event
DTSTART;TZID=America/Phoenix:20250321T170000
DTEND;TZID=America/Phoenix:20250321T180000
SEQUENCE:0
END:VEVENT
END:VCALENDAR
