BEGIN:VCALENDAR
VERSION:2.0
PRODID:-//Sabre//Sabre VObject 4.5.8//EN
CALSCALE:GREGORIAN
BEGIN:VEVENT
UID:sabre-vobject-19bb0a96-1a55-48f7-b0a7-c1cff0b9a6b9
DTSTAMP:20260420T232506Z
SUMMARY:MWR April Event Calendar
DESCRIPTION:Join us in April for the Month of the Military Child and the To
 ugh Miler Challenge.\n
X-ALT-DESC:FMTTYPE=text/html:<!DOCTYPE HTML PUBLIC "-//W3C//DTD HTML 3.2//E
 N"><HTML><p>Join us in April for the Month of the Military Child and the T
 ough Miler Challenge.</p>\n</HTML>
CREATED;TZID=America/Phoenix:20250306T145945
URL;VALUE=URI:https://huachuca.armymwr.com/view-event
DTSTART;TZID=America/Phoenix:20250401T000000
DTEND;TZID=America/Phoenix:20250401T235959
SEQUENCE:0
END:VEVENT
END:VCALENDAR
