BEGIN:VCALENDAR
VERSION:2.0
PRODID:-//Sabre//Sabre VObject 4.5.8//EN
CALSCALE:GREGORIAN
BEGIN:VEVENT
UID:sabre-vobject-bf4c1464-0b83-41ae-8bad-fca2ae8a10c8
DTSTAMP:20260422T034102Z
SUMMARY:AER Campaign Golf Scramble
DESCRIPTION:Support AER with an 18-hole Golf Scramble.\n
X-ALT-DESC:FMTTYPE=text/html:<!DOCTYPE HTML PUBLIC "-//W3C//DTD HTML 3.2//E
 N"><HTML><p>Support AER with an 18-hole Golf Scramble.</p>\n</HTML>
CREATED;TZID=America/Phoenix:20250226T114108
URL;VALUE=URI:https://huachuca.armymwr.com/view-event
DTSTART;TZID=America/Phoenix:20250308T080000
DTEND;TZID=America/Phoenix:20250308T110000
SEQUENCE:0
END:VEVENT
END:VCALENDAR
