BEGIN:VCALENDAR
VERSION:2.0
PRODID:-//Sabre//Sabre VObject 4.5.8//EN
CALSCALE:GREGORIAN
BEGIN:VEVENT
UID:sabre-vobject-feb3bb38-960f-440a-bd86-522d7bb985b1
DTSTAMP:20260422T131557Z
SUMMARY:Desert Lanes Closed for Event
DESCRIPTION:Desert Lanes will be closed on Monday\, Feb. 24th from 4pm-7pm.
 \n
X-ALT-DESC:FMTTYPE=text/html:<!DOCTYPE HTML PUBLIC "-//W3C//DTD HTML 3.2//E
 N"><HTML><p>Desert Lanes will be closed on Monday\, Feb. 24th from 4pm-7pm
 .</p>\n</HTML>
CREATED;TZID=America/Phoenix:20250221T140313
URL;VALUE=URI:https://huachuca.armymwr.com/view-event
DTSTART;TZID=America/Phoenix:20250224T160000
DTEND;TZID=America/Phoenix:20250224T190000
SEQUENCE:0
END:VEVENT
END:VCALENDAR
