BEGIN:VCALENDAR
VERSION:2.0
PRODID:-//Sabre//Sabre VObject 4.5.8//EN
CALSCALE:GREGORIAN
BEGIN:VEVENT
UID:sabre-vobject-1f7420c2-3de2-46d2-9e35-72a68ef779bb
DTSTAMP:20260422T064412Z
SUMMARY:Budding Bookworms
DESCRIPTION:Inspire a love of reading with Budding Bookworms.&nbsp\;\n
X-ALT-DESC:FMTTYPE=text/html:<!DOCTYPE HTML PUBLIC "-//W3C//DTD HTML 3.2//E
 N"><HTML><p>Inspire a love of reading with Budding Bookworms.&nbsp\;</p>\n
 </HTML>
CREATED;TZID=America/Phoenix:20250221T103824
URL;VALUE=URI:https://huachuca.armymwr.com/view-event
DTSTART;TZID=America/Phoenix:20250226T100000
DTEND;TZID=America/Phoenix:20250226T110000
SEQUENCE:0
END:VEVENT
END:VCALENDAR
