BEGIN:VCALENDAR
VERSION:2.0
PRODID:-//Sabre//Sabre VObject 4.5.8//EN
CALSCALE:GREGORIAN
BEGIN:VEVENT
UID:sabre-vobject-804c1ff7-aacc-4535-a2d1-fccdca94a606
DTSTAMP:20260422T051537Z
SUMMARY:Dried Flower Resin Art Class
DESCRIPTION:Join us for a fun craft at the Arts &amp\; Crafts Center.&nbsp\
 ;\n
X-ALT-DESC:FMTTYPE=text/html:<!DOCTYPE HTML PUBLIC "-//W3C//DTD HTML 3.2//E
 N"><HTML><p>Join us for a fun craft at the Arts &amp\; Crafts Center.&nbsp
 \;</p>\n</HTML>
CREATED;TZID=America/Phoenix:20250226T112954
URL;VALUE=URI:https://huachuca.armymwr.com/view-event
DTSTART;TZID=America/Phoenix:20250301T150000
DTEND;TZID=America/Phoenix:20250301T170000
SEQUENCE:0
END:VEVENT
END:VCALENDAR
