BEGIN:VCALENDAR
VERSION:2.0
PRODID:-//Sabre//Sabre VObject 4.5.8//EN
CALSCALE:GREGORIAN
BEGIN:VEVENT
UID:sabre-vobject-a8f407d3-c9b7-4e71-b911-e98b81d8a46b
DTSTAMP:20260420T231535Z
SUMMARY:Tough Miler Challenge
DESCRIPTION:Join us for the &quot\;world&#39\;s toughest mile&quot\; challe
 nge.&nbsp\;\n
X-ALT-DESC:FMTTYPE=text/html:<!DOCTYPE HTML PUBLIC "-//W3C//DTD HTML 3.2//E
 N"><HTML><p>Join us for the &quot\;world&#39\;s toughest mile&quot\; chall
 enge.&nbsp\;</p>\n</HTML>
CREATED;TZID=America/Phoenix:20250321T093347
URL;VALUE=URI:https://huachuca.armymwr.com/view-event
DTSTART;TZID=America/Phoenix:20250412T060000
DTEND;TZID=America/Phoenix:20250412T070000
SEQUENCE:0
END:VEVENT
END:VCALENDAR
