BEGIN:VCALENDAR
VERSION:2.0
PRODID:-//Sabre//Sabre VObject 4.5.8//EN
CALSCALE:GREGORIAN
BEGIN:VEVENT
UID:sabre-vobject-221db571-dc48-4c24-a56b-b46812569fc3
DTSTAMP:20260421T103327Z
SUMMARY:Bataan Memorial March
DESCRIPTION:
X-ALT-DESC:FMTTYPE=text/html:<!DOCTYPE HTML PUBLIC "-//W3C//DTD HTML 3.2//E
 N"><HTML></HTML>
CREATED;TZID=America/Phoenix:20250310T102022
URL;VALUE=URI:https://huachuca.armymwr.com/view-event
DTSTART;TZID=America/Phoenix:20250322T060000
DTEND;TZID=America/Phoenix:20250322T070000
SEQUENCE:0
END:VEVENT
END:VCALENDAR
