BEGIN:VCALENDAR
VERSION:2.0
PRODID:-//Sabre//Sabre VObject 4.5.8//EN
CALSCALE:GREGORIAN
BEGIN:VEVENT
UID:sabre-vobject-f14c67ec-ad14-4ee4-9869-baf5570f13da
DTSTAMP:20260422T034101Z
SUMMARY:St. Paddy's 5K
DESCRIPTION:Join us for the St. Paddy&#39\;s 5K.\n
X-ALT-DESC:FMTTYPE=text/html:<!DOCTYPE HTML PUBLIC "-//W3C//DTD HTML 3.2//E
 N"><HTML><p>Join us for the St. Paddy&#39\;s 5K.</p>\n</HTML>
CREATED;TZID=America/Phoenix:20250218T162818
URL;VALUE=URI:https://huachuca.armymwr.com/view-event
DTSTART;TZID=America/Phoenix:20250308T070000
DTEND;TZID=America/Phoenix:20250308T080000
SEQUENCE:0
END:VEVENT
END:VCALENDAR
