BEGIN:VCALENDAR
VERSION:2.0
PRODID:-//Sabre//Sabre VObject 4.5.8//EN
CALSCALE:GREGORIAN
BEGIN:VEVENT
UID:sabre-vobject-7f6e797e-fd7c-4e23-97f3-cbfc92415830
DTSTAMP:20260421T133014Z
SUMMARY:Cochise College Rodeo
DESCRIPTION:Rodeo days are here!&nbsp\;\n
X-ALT-DESC:FMTTYPE=text/html:<!DOCTYPE HTML PUBLIC "-//W3C//DTD HTML 3.2//E
 N"><HTML><p>Rodeo days are here!&nbsp\;</p>\n</HTML>
CREATED;TZID=America/Phoenix:20250225T111046
URL;VALUE=URI:https://huachuca.armymwr.com/view-event
DTSTART;TZID=America/Phoenix:20250322T120000
DTEND;TZID=America/Phoenix:20250322T160000
SEQUENCE:0
END:VEVENT
END:VCALENDAR
