BEGIN:VCALENDAR
VERSION:2.0
PRODID:-//Sabre//Sabre VObject 4.5.8//EN
CALSCALE:GREGORIAN
BEGIN:VEVENT
UID:sabre-vobject-06a5834e-10a5-42c9-a390-b2900c37875a
DTSTAMP:20260422T155625Z
SUMMARY:Icebreaker 10K
DESCRIPTION:Join us for the Icebreaker 10K on Feb. 8th.\n
X-ALT-DESC:FMTTYPE=text/html:<!DOCTYPE HTML PUBLIC "-//W3C//DTD HTML 3.2//E
 N"><HTML><p>Join us for the Icebreaker 10K on Feb. 8th.</p>\n</HTML>
CREATED;TZID=America/Phoenix:20250203T151617
URL;VALUE=URI:https://huachuca.armymwr.com/view-event
DTSTART;TZID=America/Phoenix:20250208T073000
DTEND;TZID=America/Phoenix:20250208T083000
SEQUENCE:0
END:VEVENT
END:VCALENDAR
