BEGIN:VCALENDAR
VERSION:2.0
PRODID:-//Sabre//Sabre VObject 4.5.8//EN
CALSCALE:GREGORIAN
BEGIN:VEVENT
UID:sabre-vobject-1f4e05f1-65ee-448c-815a-a3873a41b2f4
DTSTAMP:20260422T131622Z
SUMMARY:Yardley Super Bowl Party
DESCRIPTION:Watch the Super Bowl at Yardley Community Center\n
X-ALT-DESC:FMTTYPE=text/html:<!DOCTYPE HTML PUBLIC "-//W3C//DTD HTML 3.2//E
 N"><HTML><p>Watch the Super Bowl at Yardley Community Center</p>\n</HTML>
CREATED;TZID=America/Phoenix:20250101T221622
URL;VALUE=URI:https://huachuca.armymwr.com/view-event
DTSTART;TZID=America/Phoenix:20250209T153000
DTEND;TZID=America/Phoenix:20250209T180000
SEQUENCE:0
END:VEVENT
END:VCALENDAR
