BEGIN:VCALENDAR
VERSION:2.0
PRODID:-//Sabre//Sabre VObject 4.5.8//EN
CALSCALE:GREGORIAN
BEGIN:VEVENT
UID:sabre-vobject-a7ab2cf8-b43a-42f6-89af-300e4c8a387a
DTSTAMP:20260426T040226Z
SUMMARY:Turkey Bowl
DESCRIPTION:Join us for the Turkey Bowl.\n
X-ALT-DESC:FMTTYPE=text/html:<!DOCTYPE HTML PUBLIC "-//W3C//DTD HTML 3.2//E
 N"><HTML><p>Join us for the Turkey Bowl.</p>\n</HTML>
CREATED;TZID=America/Phoenix:20240918T155504
URL;VALUE=URI:https://huachuca.armymwr.com/view-event
DTSTART;TZID=America/Phoenix:20241122T140000
DTEND;TZID=America/Phoenix:20241122T160000
SEQUENCE:0
END:VEVENT
END:VCALENDAR
