BEGIN:VCALENDAR
VERSION:2.0
PRODID:-//Sabre//Sabre VObject 4.5.8//EN
CALSCALE:GREGORIAN
BEGIN:VEVENT
UID:sabre-vobject-7215d461-f92a-4689-9feb-e267c40dd829
DTSTAMP:20260421T205242Z
SUMMARY:Dungeons and Dragons
DESCRIPTION:Joins us for a weekly game of Dungeons and Dragons.\n
X-ALT-DESC:FMTTYPE=text/html:<!DOCTYPE HTML PUBLIC "-//W3C//DTD HTML 3.2//E
 N"><HTML><p>Joins us for a weekly game of Dungeons and Dragons.</p>\n</HTM
 L>
CREATED;TZID=America/Phoenix:20231120T100145
URL;VALUE=URI:https://huachuca.armymwr.com/view-event
DTSTART;TZID=America/Phoenix:20231104T180000
DTEND;TZID=America/Phoenix:20231104T200000
SEQUENCE:0
END:VEVENT
END:VCALENDAR
