BEGIN:VCALENDAR
VERSION:2.0
PRODID:-//Sabre//Sabre VObject 4.5.8//EN
CALSCALE:GREGORIAN
BEGIN:VEVENT
UID:sabre-vobject-3c656ad2-c7d1-4e10-82ff-ed7926236106
DTSTAMP:20260421T090622Z
SUMMARY:Turkey Trot 5K
DESCRIPTION:Join us for the 2023 Turkey Trot 5K. Run now\, gobble later!\n
X-ALT-DESC:FMTTYPE=text/html:<!DOCTYPE HTML PUBLIC "-//W3C//DTD HTML 3.2//E
 N"><HTML><p>Join us for the 2023 Turkey Trot 5K. Run now\, gobble later!</
 p>\n</HTML>
CREATED;TZID=America/Phoenix:20231031T105544
URL;VALUE=URI:https://huachuca.armymwr.com/view-event
DTSTART;TZID=America/Phoenix:20231123T070000
DTEND;TZID=America/Phoenix:20231123T080000
SEQUENCE:0
END:VEVENT
END:VCALENDAR
