BEGIN:VCALENDAR
VERSION:2.0
PRODID:-//Sabre//Sabre VObject 4.5.8//EN
CALSCALE:GREGORIAN
BEGIN:VEVENT
UID:sabre-vobject-01ab3dbf-07f0-4771-be76-30a41fb8612d
DTSTAMP:20260424T100905Z
SUMMARY:CC Flag Football Coaches Meeting
DESCRIPTION:Required coaches meeting for CC Flag Football.\n
X-ALT-DESC:FMTTYPE=text/html:<!DOCTYPE HTML PUBLIC "-//W3C//DTD HTML 3.2//E
 N"><HTML><p>Required coaches meeting for CC Flag Football.</p>\n</HTML>
CREATED;TZID=America/Phoenix:20230830T152859
URL;VALUE=URI:https://huachuca.armymwr.com/view-event
DTSTART;TZID=America/Phoenix:20230927T100000
DTEND;TZID=America/Phoenix:20230927T110000
SEQUENCE:0
END:VEVENT
END:VCALENDAR
