BEGIN:VCALENDAR
VERSION:2.0
PRODID:-//Sabre//Sabre VObject 4.5.8//EN
CALSCALE:GREGORIAN
BEGIN:VEVENT
UID:sabre-vobject-45b2d32f-9a3c-47b7-b148-b107c8e2d6fc
DTSTAMP:20260421T075619Z
SUMMARY:Veterans Day Discounts
DESCRIPTION:Celebrate Veterans Day with MWR and enjoy great discounts at ou
 r facilities.&nbsp\;\n
X-ALT-DESC:FMTTYPE=text/html:<!DOCTYPE HTML PUBLIC "-//W3C//DTD HTML 3.2//E
 N"><HTML><p>Celebrate Veterans Day with MWR and enjoy great discounts at o
 ur facilities.&nbsp\;</p>\n</HTML>
CREATED;TZID=America/Phoenix:20231011T124821
URL;VALUE=URI:https://huachuca.armymwr.com/view-event
DTSTART;TZID=America/Phoenix:20231111T000000
DTEND;TZID=America/Phoenix:20231111T235959
SEQUENCE:0
END:VEVENT
END:VCALENDAR
