BEGIN:VCALENDAR
VERSION:2.0
PRODID:-//Sabre//Sabre VObject 4.5.8//EN
CALSCALE:GREGORIAN
BEGIN:VEVENT
UID:sabre-vobject-374b2603-a06d-49b9-a247-641a86217ebc
DTSTAMP:20260419T202506Z
SUMMARY:Right Arm Nite
DESCRIPTION:
X-ALT-DESC:FMTTYPE=text/html:<!DOCTYPE HTML PUBLIC "-//W3C//DTD HTML 3.2//E
 N"><HTML></HTML>
CREATED;TZID=America/Phoenix:20200128T160106
URL;VALUE=URI:https://huachuca.armymwr.com/view-event
DTSTART;TZID=America/Phoenix:20191122T163000
DTEND;TZID=America/Phoenix:20191122T180000
SEQUENCE:0
END:VEVENT
BEGIN:VEVENT
UID:sabre-vobject-39fecd88-ffae-4bcc-a95e-e0b312ba3f6c
DTSTAMP:20260419T202506Z
SUMMARY:Right Arm Nite
DESCRIPTION:
X-ALT-DESC:FMTTYPE=text/html:<!DOCTYPE HTML PUBLIC "-//W3C//DTD HTML 3.2//E
 N"><HTML></HTML>
CREATED;TZID=America/Phoenix:20200128T160106
URL;VALUE=URI:https://huachuca.armymwr.com/view-event
DTSTART;TZID=America/Phoenix:20200131T163000
DTEND;TZID=America/Phoenix:20200131T180000
SEQUENCE:1
END:VEVENT
END:VCALENDAR
