BEGIN:VCALENDAR
VERSION:2.0
PRODID:-//Sabre//Sabre VObject 4.5.8//EN
CALSCALE:GREGORIAN
BEGIN:VEVENT
UID:sabre-vobject-58683b45-7bd4-40a2-864a-35370a83f494
DTSTAMP:20260424T020400Z
SUMMARY:Golf Clinic
DESCRIPTION:Improve your chipping skills at this clinic at Mountain View Go
 lf Course.&nbsp\;\n
X-ALT-DESC:FMTTYPE=text/html:<!DOCTYPE HTML PUBLIC "-//W3C//DTD HTML 3.2//E
 N"><HTML><p>Improve your chipping skills at this clinic at Mountain View G
 olf Course.&nbsp\;</p>\n</HTML>
CREATED;TZID=America/Phoenix:20260416T125258
URL;VALUE=URI:https://huachuca.armymwr.com/view-event
DTSTART;TZID=America/Phoenix:20260502T090000
DTEND;TZID=America/Phoenix:20260502T100000
SEQUENCE:0
END:VEVENT
END:VCALENDAR
