BEGIN:VCALENDAR
VERSION:2.0
PRODID:-//Sabre//Sabre VObject 4.5.8//EN
CALSCALE:GREGORIAN
BEGIN:VEVENT
UID:sabre-vobject-c15cda53-b27b-456e-bb30-063a478f8a9c
DTSTAMP:20260421T163920Z
SUMMARY:Gymkhana
DESCRIPTION:Join Buffalo Corral and the Sierra Vista Riding Club for Gymkha
 na on May 30th!\n
X-ALT-DESC:FMTTYPE=text/html:<!DOCTYPE HTML PUBLIC "-//W3C//DTD HTML 3.2//E
 N"><HTML><p>Join Buffalo Corral and the Sierra Vista Riding Club for Gymkh
 ana on May 30th!</p>\n</HTML>
CREATED;TZID=America/Phoenix:20260410T081112
URL;VALUE=URI:https://huachuca.armymwr.com/view-event
DTSTART;TZID=America/Phoenix:20260530T090000
DTEND;TZID=America/Phoenix:20260530T130000
SEQUENCE:0
END:VEVENT
END:VCALENDAR
