BEGIN:VCALENDAR
VERSION:2.0
PRODID:-//Sabre//Sabre VObject 4.5.8//EN
CALSCALE:GREGORIAN
BEGIN:VEVENT
UID:sabre-vobject-cb604a95-f0b4-4cfc-8b70-2820bc7ed210
DTSTAMP:20260425T192328Z
SUMMARY:Wine\, Bacon & Bourbon Festival
DESCRIPTION:Join us for the Wine\, Bacon &amp\; Bourbon Festival on Brown P
 arade Field.\n
X-ALT-DESC:FMTTYPE=text/html:<!DOCTYPE HTML PUBLIC "-//W3C//DTD HTML 3.2//E
 N"><HTML><p>Join us for the Wine\, Bacon &amp\; Bourbon Festival on Brown 
 Parade Field.</p>\n</HTML>
CREATED;TZID=America/Phoenix:20260107T101719
URL;VALUE=URI:https://huachuca.armymwr.com/view-event
DTSTART;TZID=America/Phoenix:20260606T000000
DTEND;TZID=America/Phoenix:20260606T235959
SEQUENCE:0
END:VEVENT
END:VCALENDAR
