BEGIN:VCALENDAR
VERSION:2.0
PRODID:-//Sabre//Sabre VObject 4.5.8//EN
CALSCALE:GREGORIAN
BEGIN:VEVENT
UID:sabre-vobject-a6000512-70dd-47e0-9614-28910bf846c0
DTSTAMP:20260424T094210Z
SUMMARY:Stress Reduction Workshop
DESCRIPTION:Join the New Parent Support Program for a Stress Reduction Work
 shop.\n
X-ALT-DESC:FMTTYPE=text/html:<!DOCTYPE HTML PUBLIC "-//W3C//DTD HTML 3.2//E
 N"><HTML><p>Join the New Parent Support Program for a Stress Reduction Wor
 kshop.</p>\n</HTML>
CREATED;TZID=America/Phoenix:20260109T101716
URL;VALUE=URI:https://huachuca.armymwr.com/view-event
DTSTART;TZID=America/Phoenix:20260409T143000
DTEND;TZID=America/Phoenix:20260409T153000
SEQUENCE:0
END:VEVENT
END:VCALENDAR
