BEGIN:VCALENDAR
VERSION:2.0
PRODID:-//Sabre//Sabre VObject 4.5.8//EN
CALSCALE:GREGORIAN
BEGIN:VEVENT
UID:sabre-vobject-01783534-ed06-4c74-9d76-2401ff4b164e
DTSTAMP:20260424T003452Z
SUMMARY:Jiu-Jitsu at Eifler
DESCRIPTION:Try Brazilian Jiu-Jitsu at Eifler Fitness Center.\n
X-ALT-DESC:FMTTYPE=text/html:<!DOCTYPE HTML PUBLIC "-//W3C//DTD HTML 3.2//E
 N"><HTML><p>Try Brazilian Jiu-Jitsu at Eifler Fitness Center.</p>\n</HTML>
CREATED;TZID=America/Phoenix:20250604T130359
URL;VALUE=URI:https://huachuca.armymwr.com/view-event
DTSTART;TZID=America/Phoenix:20250607T090000
DTEND;TZID=America/Phoenix:20250607T110000
SEQUENCE:0
END:VEVENT
END:VCALENDAR
