BEGIN:VCALENDAR
VERSION:2.0
PRODID:-//Sabre//Sabre VObject 4.5.8//EN
CALSCALE:GREGORIAN
BEGIN:VEVENT
UID:sabre-vobject-40fe1c4e-065c-4b2b-a1e8-afd0318407de
DTSTAMP:20260423T142203Z
SUMMARY:Jiu-Jitsu at Eifler
DESCRIPTION:Try Brazilian Jiu-Jitsu at Eifler Fitness Center.\n
X-ALT-DESC:FMTTYPE=text/html:<!DOCTYPE HTML PUBLIC "-//W3C//DTD HTML 3.2//E
 N"><HTML><p>Try Brazilian Jiu-Jitsu at Eifler Fitness Center.</p>\n</HTML>
CREATED;TZID=America/Phoenix:20251126T173550
URL;VALUE=URI:https://huachuca.armymwr.com/view-event
DTSTART;TZID=America/Phoenix:20250605T173000
DTEND;TZID=America/Phoenix:20250605T190000
SEQUENCE:0
END:VEVENT
END:VCALENDAR
