BEGIN:VCALENDAR
VERSION:2.0
PRODID:-//Sabre//Sabre VObject 4.5.8//EN
CALSCALE:GREGORIAN
BEGIN:VEVENT
UID:sabre-vobject-80f5f773-6d4b-4f9b-863c-2d9f52abf33f
DTSTAMP:20260423T200936Z
SUMMARY:Zumba at Eifler Gym 
DESCRIPTION:Come Zumba at Eifler Gym every Tuesday and Thursday at 4:30 pm.
 &nbsp\;\n
X-ALT-DESC:FMTTYPE=text/html:<!DOCTYPE HTML PUBLIC "-//W3C//DTD HTML 3.2//E
 N"><HTML><p>Come Zumba at Eifler Gym every Tuesday and Thursday at 4:30 pm
 .&nbsp\;</p>\n</HTML>
CREATED;TZID=America/Phoenix:20260224T101408
URL;VALUE=URI:https://huachuca.armymwr.com/view-event
DTSTART;TZID=America/Phoenix:20250610T163000
DTEND;TZID=America/Phoenix:20250610T173000
SEQUENCE:0
END:VEVENT
END:VCALENDAR
